BEGIN:VCALENDAR
VERSION:2.0
PRODID:-//wp-events-plugin.com//7.2.3.1//EN
TZID:America/Toronto
X-WR-TIMEZONE:America/Toronto
BEGIN:VEVENT
UID:187@foretcapitaleforest.ca
DTSTART;TZID=America/Toronto:20260515T130000
DTEND;TZID=America/Toronto:20260515T150000
DTSTAMP:20260422T125413Z
URL:https://foretcapitaleforest.ca/events/stewardship-workshop-aviation/
SUMMARY:Stewardship Workshop - Aviation Parkway
DESCRIPTION:\nAre you looking to build real-world skills in tree care and e
 nvironmental stewardship?&nbsp\;\n\n\n\nThis free\, hands-on stewardship w
 orkshop at FCF's Aviation Parkway planting site will walk you through the 
 key actions used to support newly planted trees in your community. You’l
 l learn practical techniques like proper watering and soil moisture assess
 ment\, removing competing vegetation\, and identifying the signs of stress
 \, pests\, and damage. We’ll also cover how to report issues and contrib
 ute to FCF’s ongoing monitoring efforts.\n\n\n\nNo tools or prior experi
 ence required - just come ready to learn!\n\n\n\n\n\n\n\n\nMeeting Locatio
 n:\n\n\n\n\nWe will be meeting at FCF's Aviation Parkway Planting Site\, o
 n Aviation Pathway by Rainsford Ave &amp\; Clark Ave.\n\n\n\n\nParking:\n\
 n\n\n\nFree street parking can be found along&nbsp\;Rainsford Avenue\, or 
 on other nearby side streets off of Aviation Parkway.\n\n\n\n\nWhat to wea
 r:\n\n\n\n\n\nClose-toed shoes\n\n\n\nWeather-appropriate clothing\n\n\n\n
 \n\nWhat to bring:\n\n\n\n\n\nDrinking water\n\n\n\nSunscreen\n\n\n\nOptio
 nal: Your favourite gardening gloves. FCF will provide gloves if you don
 ’t have any.\n\n\n\n\nAny other required equipment will be provided.\n\n
 \n\n\n\n\n\nWeather PolicyEvents are held rain or shine\, so we encourage 
 participants to dress for the weather. If conditions become unsafe\, we wi
 ll notify participants with any updates\, including changes or cancellatio
 ns.\n\n\n\nIf you have any questions\, please contact us at&nbsp\;comms@fo
 retcapitaleforest.ca. We look forward to seeing you there!\n\n\n\n\n\n\n\n
 PARTICIPANT REGISTRATION FORM\n\n\n\nFriday\, May 15th - Stewardship Works
 hop\, Aviation Parkway\n\n\n
LOCATION:Aviation Parkway Planting Site\, Rainsford Avenue\, Ottawa\, K1K 0
 W5\, Canada
X-APPLE-STRUCTURED-LOCATION;VALUE=URI;X-ADDRESS=Rainsford Avenue\, Ottawa\,
  K1K 0W5\, Canada;X-APPLE-RADIUS=100;X-TITLE=Aviation Parkway Planting Sit
 e:geo:0,0
END:VEVENT
BEGIN:VTIMEZONE
TZID:America/Toronto
X-LIC-LOCATION:America/Toronto
BEGIN:DAYLIGHT
DTSTART:20260308T030000
TZOFFSETFROM:-0500
TZOFFSETTO:-0400
TZNAME:EDT
END:DAYLIGHT
END:VTIMEZONE
END:VCALENDAR