BEGIN:VCALENDAR
VERSION:2.0
PRODID:-//wp-events-plugin.com//7.2.3.1//EN
TZID:America/Toronto
X-WR-TIMEZONE:America/Toronto
BEGIN:VEVENT
UID:181@foretcapitaleforest.ca
DTSTART;TZID=America/Toronto:20260509T100000
DTEND;TZID=America/Toronto:20260509T140000
DTSTAMP:20260402T163414Z
URL:https://foretcapitaleforest.ca/events/seedling-saturday-2/
SUMMARY:Seedling Saturday
DESCRIPTION:\nThe date for Seedling Saturday at the Just Food Community F
 arm has been set for May 9th\, 2026.\n\n\n\nAs the name implies\, there wi
 ll be many seedlings for sale at this free event from a growing list of ve
 ndors.\n\n\n\nForêt Capitale Forest and Nanabush Food Forests will be sel
 ling seedlings of food-bearing trees and shrubs as part of our fundraising
  efforts!\n\n\n\n\n
ATTACH;FMTTYPE=image/jpeg:https://foretcapitaleforest.ca/wp-content/upload
 s/2026/04/DSC_2772-scaled-e1775147639139.jpg
LOCATION:Just Food Community Farm\, 2391 Pepin Court\, Gloucester\, K1B 4Z3
 \, Canada
X-APPLE-STRUCTURED-LOCATION;VALUE=URI;X-ADDRESS=2391 Pepin Court\, Gloucest
 er\, K1B 4Z3\, Canada;X-APPLE-RADIUS=100;X-TITLE=Just Food Community Farm:
 geo:0,0
END:VEVENT
BEGIN:VTIMEZONE
TZID:America/Toronto
X-LIC-LOCATION:America/Toronto
BEGIN:DAYLIGHT
DTSTART:20260308T030000
TZOFFSETFROM:-0500
TZOFFSETTO:-0400
TZNAME:EDT
END:DAYLIGHT
END:VTIMEZONE
END:VCALENDAR