BEGIN:VCALENDAR
VERSION:2.0
PRODID:-//wp-events-plugin.com//7.2.3.1//EN
TZID:America/Toronto
X-WR-TIMEZONE:America/Toronto
BEGIN:VEVENT
UID:186@foretcapitaleforest.ca
DTSTART;TZID=America/Toronto:20260509T100000
DTEND;TZID=America/Toronto:20260509T120000
DTSTAMP:20260421T154316Z
URL:https://foretcapitaleforest.ca/events/hampton-park-tree-planting/
SUMMARY:Hampton Park Volunteer Tree Planting Event
DESCRIPTION:\nJoin us for a community tree planting event at Hampton Park! 
 In partnership with Friends of Hampton Park and the National Capital Commi
 ssion (NCC)\, we’ll be planting 100 trees and 100 shrubs to support the 
 long-term health and resilience of the park’s forest canopy. Hampton Par
 k is home to a remnant old-growth forest and will be celebrating its cente
 nnial in 2027. This planting is part of a broader effort to help sustain a
 nd strengthen this unique urban forest for years to come.\n\n\n\nThe inter
 ior of Hampton Park is designated as High Potential for Pre-Contact Archae
 ology. The NCC's Volunteer Archaeology Program will support required due d
 iligence throughout the planting event. Soil from planting holes will be s
 creened on-site during the event.\n\n\n\nNo previous planting experience i
 s required — we’ll provide all the tools and guidance you need! This i
 s a family-friendly event\, perfect for individuals\, groups\, and childre
 n of all ages. \n\n\n\n\nMeeting Location:\n\n\n\n\nDIRECTIONS\n\n\n\nHamp
 ton Park512 Island Park DriveNCC Parking Lot entrance - follow the posted 
 FCF signage on-siteK1Y 0B4Ottawa\, ON\n\n\n\n\nParking:\n\n\n\n\nFree park
 ing is available at the NCC parking lot. Additional parking and washroom f
 acilities are available close to the City of Ottawa Hampton Park wading po
 ol (off of Sebring Ave./Parkview Rd).\n\n\n\n\nWhat to wear:\n\n\n\n\n\nCl
 ose-toed shoes\n\n\n\nWeather-appropriate clothing\n\n\n\n\n\nWhat to brin
 g:\n\n\n\n\n\nDrinking water\n\n\n\nSunscreen\n\n\n\nOptional: Your favour
 ite gardening gloves. FCF will provide gloves if you don’t have any.\n\n
 \n\n\nGloves and equipment will be provided.\n\n\n\nWeather PolicyEvents a
 re held rain or shine\, so we encourage participants to dress for the weat
 her. If conditions become unsafe\, we will notify participants with any up
 dates\, including changes or cancellations.\n\n\n\nIf you have any questio
 ns\, please contact us at&nbsp\;comms@foretcapitaleforest.ca. We look forw
 ard to seeing you there!\n\n\n\n\n\n\n\nPARTICIPANT REGISTRATION FORM\n\n\
 n\nSaturday\, May 9th Hampton Park Tree Planting Event\n\n\n
ATTACH;FMTTYPE=image/jpeg:https://foretcapitaleforest.ca/wp-content/upload
 s/2026/04/Hampton-Park-Planting-Poster-1.png
LOCATION:Hampton Park\, 512 Island Park Drive\, Ottawa\, K1Y 0B4\, Canada
X-APPLE-STRUCTURED-LOCATION;VALUE=URI;X-ADDRESS=512 Island Park Drive\, Ott
 awa\, K1Y 0B4\, Canada;X-APPLE-RADIUS=100;X-TITLE=Hampton Park:geo:0,0
END:VEVENT
BEGIN:VTIMEZONE
TZID:America/Toronto
X-LIC-LOCATION:America/Toronto
BEGIN:DAYLIGHT
DTSTART:20260308T030000
TZOFFSETFROM:-0500
TZOFFSETTO:-0400
TZNAME:EDT
END:DAYLIGHT
END:VTIMEZONE
END:VCALENDAR